BEGIN:VCALENDAR
VERSION:2.0
PRODID:-//DriftingSA - ECPv4.7.0.1//NONSGML v1.0//EN
CALSCALE:GREGORIAN
METHOD:PUBLISH
X-WR-CALNAME:DriftingSA
X-ORIGINAL-URL:https://www.driftingsa.com.au
X-WR-CALDESC:Events for DriftingSA
BEGIN:VEVENT
DTSTART;TZID=UTC+0:20180310T090000
DTEND;TZID=UTC+0:20180310T210000
DTSTAMP:20190228T233448
CREATED:20180122T092521Z
LAST-MODIFIED:20180122T092521Z
UID:220-1520672400-1520715600@www.driftingsa.com.au
SUMMARY:Mallala Matsuri
DESCRIPTION:First 10/10 Matsuri at Mallala\nLimited to 140 Spots\nFirst 100 Free Garage\nAction 9am-9pm with skid pan\n \n$200 entry for drivers \n \n
URL:https://www.driftingsa.com.au/event/mallala-matsuri-2/
LOCATION:Mallala Motorsport Park\, Aerodrome Road\, Mallala\, South Australia\, 5502\, Australia
ORGANIZER;CN="Mallala%20Motorsport%20Park":MAILTO:mallalamotorsport@bigpond.com
END:VEVENT
END:VCALENDAR