BEGIN:VCALENDAR
VERSION:2.0
PRODID:-//DriftingSA - ECPv4.7.0.1//NONSGML v1.0//EN
CALSCALE:GREGORIAN
METHOD:PUBLISH
X-WR-CALNAME:DriftingSA
X-ORIGINAL-URL:https://www.driftingsa.com.au
X-WR-CALDESC:Events for DriftingSA
BEGIN:VEVENT
DTSTART;VALUE=DATE:20150221
DTEND;VALUE=DATE:20150222
DTSTAMP:20190228T233519
CREATED:20150216T054131Z
LAST-MODIFIED:20150216T054131Z
UID:131-1424476800-1424563199@www.driftingsa.com.au
SUMMARY:G1 Drift
DESCRIPTION:
URL:https://www.driftingsa.com.au/event/g1-drift/
LOCATION:Mallala Motorsport Park\, Aerodrome Road\, Mallala\, South Australia\, 5502\, Australia
END:VEVENT
END:VCALENDAR