BEGIN:VCALENDAR
VERSION:2.0
PRODID:-//DriftingSA - ECPv4.7.0.1//NONSGML v1.0//EN
CALSCALE:GREGORIAN
METHOD:PUBLISH
X-WR-CALNAME:DriftingSA
X-ORIGINAL-URL:https://www.driftingsa.com.au
X-WR-CALDESC:Events for DriftingSA
BEGIN:VEVENT
DTSTART;TZID=UTC+0:20161126T080000
DTEND;TZID=UTC+0:20161126T170000
DTSTAMP:20190228T233247
CREATED:20160930T094432Z
LAST-MODIFIED:20160930T094432Z
UID:156-1480147200-1480179600@www.driftingsa.com.au
SUMMARY:G1 Drift Competition RND3
DESCRIPTION:
URL:https://www.driftingsa.com.au/event/g1-drift-competition-rnd3/
LOCATION:Mallala Motorsport Park\, Aerodrome Road\, Mallala\, South Australia\, 5502\, Australia
END:VEVENT
END:VCALENDAR