BEGIN:VCALENDAR
VERSION:2.0
PRODID:-//DriftingSA - ECPv4.7.0.1//NONSGML v1.0//EN
CALSCALE:GREGORIAN
METHOD:PUBLISH
X-WR-CALNAME:DriftingSA
X-ORIGINAL-URL:https://www.driftingsa.com.au
X-WR-CALDESC:Events for DriftingSA
BEGIN:VEVENT
DTSTART;TZID=UTC+0:20150307T170000
DTEND;TZID=UTC+0:20150307T210000
DTSTAMP:20190228T233533
CREATED:20150216T054410Z
LAST-MODIFIED:20150216T054410Z
UID:132-1425747600-1425762000@www.driftingsa.com.au
SUMMARY:Drift Practice
DESCRIPTION:
URL:https://www.driftingsa.com.au/event/drift-practice/
LOCATION:Mallala Motorsport Park\, Aerodrome Road\, Mallala\, South Australia\, 5502\, Australia
END:VEVENT
END:VCALENDAR