BEGIN:VCALENDAR
VERSION:2.0
PRODID:-//DriftingSA - ECPv4.7.0.1//NONSGML v1.0//EN
CALSCALE:GREGORIAN
METHOD:PUBLISH
X-WR-CALNAME:DriftingSA
X-ORIGINAL-URL:https://www.driftingsa.com.au
X-WR-CALDESC:Events for DriftingSA
BEGIN:VEVENT
DTSTART;VALUE=DATE:20181103
DTEND;VALUE=DATE:20181105
DTSTAMP:20190228T232958
CREATED:20180122T095428Z
LAST-MODIFIED:20180122T095428Z
UID:241-1541203200-1541375999@www.driftingsa.com.au
SUMMARY:Drift Fest
DESCRIPTION:Details TBC \n2 days of drifting 9am to 5pm\, camping on site\, details closer to the date. \n
URL:https://www.driftingsa.com.au/event/drift-fest/
LOCATION:Mallala Motorsport Park\, Aerodrome Road\, Mallala\, South Australia\, 5502\, Australia
ORGANIZER;CN="Mallala%20Motorsport%20Park":MAILTO:mallalamotorsport@bigpond.com
END:VEVENT
END:VCALENDAR