BEGIN:VCALENDAR
VERSION:2.0
PRODID:-//DriftingSA - ECPv4.7.0.1//NONSGML v1.0//EN
CALSCALE:GREGORIAN
METHOD:PUBLISH
X-WR-CALNAME:DriftingSA
X-ORIGINAL-URL:https://www.driftingsa.com.au
X-WR-CALDESC:Events for DriftingSA
BEGIN:VEVENT
DTSTART;TZID=UTC+0:20161202T080000
DTEND;TZID=UTC+0:20161203T170000
DTSTAMP:20190228T233258
CREATED:20160930T094809Z
LAST-MODIFIED:20160930T094809Z
UID:158-1480665600-1480784400@www.driftingsa.com.au
SUMMARY:Drift Challenge Aust RND3
DESCRIPTION:
URL:https://www.driftingsa.com.au/event/drift-challenge-aust-rnd3/
LOCATION:Calder Park Raceway\, VIC\, Australia
END:VEVENT
END:VCALENDAR